BEGIN:VCALENDAR
VERSION:2.0
PRODID:-//EcoCloud - ECPv6.15.20//NONSGML v1.0//EN
CALSCALE:GREGORIAN
METHOD:PUBLISH
X-ORIGINAL-URL:https://ecocloud.epfl.ch
X-WR-CALDESC:Events for EcoCloud
REFRESH-INTERVAL;VALUE=DURATION:PT1H
X-Robots-Tag:noindex
X-PUBLISHED-TTL:PT1H
BEGIN:VTIMEZONE
TZID:Europe/Paris
BEGIN:DAYLIGHT
TZOFFSETFROM:+0100
TZOFFSETTO:+0200
TZNAME:CEST
DTSTART:20230326T010000
END:DAYLIGHT
BEGIN:STANDARD
TZOFFSETFROM:+0200
TZOFFSETTO:+0100
TZNAME:CET
DTSTART:20231029T010000
END:STANDARD
BEGIN:DAYLIGHT
TZOFFSETFROM:+0100
TZOFFSETTO:+0200
TZNAME:CEST
DTSTART:20240331T010000
END:DAYLIGHT
BEGIN:STANDARD
TZOFFSETFROM:+0200
TZOFFSETTO:+0100
TZNAME:CET
DTSTART:20241027T010000
END:STANDARD
BEGIN:DAYLIGHT
TZOFFSETFROM:+0100
TZOFFSETTO:+0200
TZNAME:CEST
DTSTART:20250330T010000
END:DAYLIGHT
BEGIN:STANDARD
TZOFFSETFROM:+0200
TZOFFSETTO:+0100
TZNAME:CET
DTSTART:20251026T010000
END:STANDARD
END:VTIMEZONE
BEGIN:VEVENT
DTSTART;TZID=Europe/Paris:20240830T110000
DTEND;TZID=Europe/Paris:20240830T123000
DTSTAMP:20260421T214145
CREATED:20240627T060810Z
LAST-MODIFIED:20240822T093511Z
UID:10468-1725015600-1725021000@ecocloud.epfl.ch
SUMMARY:Future Health: Harnessing Multimodal Data and GenAI for Health Promotion
DESCRIPTION:Speaker: Amir M. Rahmani\, PhD\, MBA \nAffiliation: Professor of CS\, EECS\, and Nursing\, Co-Director of the UCI Institute for Future Health\, University of California\, Irvine\, USA \n“Future Health” emphasizes the importance of recognizing each individual’s uniqueness\, which arises from their specific omics\, lifestyle\, environmental\, and socioeconomic conditions. Thanks to advancements in sensors\, mobile computing\, ubiquitous computing\, and artificial intelligence (AI)\, we can now collect detailed information about individuals. This data serves as the foundation for creating personal models\, offering predictive and preventive advice tailored specifically to each person. These models enable us to provide precise recommendations that closely align with the individual’s predicted needs. \nIn my presentation\, I will explore how AI\, including generative AI\, and wearable technology are revolutionizing the collection and analysis of big health data in everyday environments. I will discuss the analytics used to evaluate physical and mental health and how smart recommendations can be made objectively. Moreover\, I will illustrate how leveraging Large Language Models (LLMs)-powered conversational health agents (CHAs) can integrate personal data\, models\, and knowledge into healthcare chatbots. \nAdditionally\, I will present our open-source initiative on developing OpenCHA. This integration allows for the creation of personalized chatbots\, enhancing the delivery of health guidance directly tailored to the individual. \n  \nBiography: \nAmir M. Rahmani is the founder of the Health SciTech Group at the University of California\, Irvine (UCI) and the co-founder and Co-Director of the Institute for Future Health\, a campus-wide Organized Research Unit at UCI. He is also a lifetime docent (Adjunct Professor) at the University of Turku (UTU)\, Finland. \nHis research includes AI in healthcare\, ubiquitous computing\, AI-powered bio-signal processing\, health informatics\, and big health data analytics. He has been leading several NSF\, NIH\, Academy of Finland\, and European Commission-funded projects on Smart Pain Assessment\, Community-Centered Care\, Family-centered Maternity Care\, Stress Management in Adolescents\, and Remote Elderly and Family Caregivers Monitoring. \nHe is the co-author of more than 350 peer-reviewed publications and the associate editor-in-chief of ACM Transactions on Computing for Healthcare and Frontiers in Wearable Electronics journals and the Editorial Board of Nature Scientific Reports. He is a distinguished member of the ACM and a senior member of the IEEE.
URL:https://ecocloud.epfl.ch/event/future-health-harnessing-multimodal-data-and-genai-for-health-promotion/
LOCATION:BC420 – Computing Building of EPFL\, EPFL\, Ecublens\, Switzerland
CATEGORIES:EcoCloud Official Event
ATTACH;FMTTYPE=image/jpeg:https://ecocloud.epfl.ch/wp-content/uploads/2024/06/uci.jpg
END:VEVENT
END:VCALENDAR