BEGIN:VCALENDAR
VERSION:2.0
PRODID:-//EcoCloud - ECPv6.15.20//NONSGML v1.0//EN
CALSCALE:GREGORIAN
METHOD:PUBLISH
X-ORIGINAL-URL:https://ecocloud.epfl.ch
X-WR-CALDESC:Events for EcoCloud
REFRESH-INTERVAL;VALUE=DURATION:PT1H
X-Robots-Tag:noindex
X-PUBLISHED-TTL:PT1H
BEGIN:VTIMEZONE
TZID:Europe/Moscow
BEGIN:STANDARD
TZOFFSETFROM:+0300
TZOFFSETTO:+0300
TZNAME:MSK
DTSTART:20220101T000000
END:STANDARD
END:VTIMEZONE
BEGIN:VEVENT
DTSTART;TZID=Europe/Moscow:20231010T083000
DTEND;TZID=Europe/Moscow:20231010T180000
DTSTAMP:20260420T224815
CREATED:20230601T123649Z
LAST-MODIFIED:20230905T062206Z
UID:9282-1696926600-1696960800@ecocloud.epfl.ch
SUMMARY:EcoCloud Annual Event - 2023
DESCRIPTION:Save the date!\nThe EcoCloud Annual Event on IT Sustainability returns to Lausanne Palace: \n8:30am to 6:00pm\, Tuesday\, October 10th\, 2023 \nProgram available here
URL:https://ecocloud.epfl.ch/event/ecocloud-annual-event-2023/
LOCATION:Lausanne Palace\, Rue du Grand-Chêne 7-9\, Lausanne\, 1002\, Switzerland
CATEGORIES:EcoCloud Annual Event
ATTACH;FMTTYPE=image/jpeg:https://ecocloud.epfl.ch/wp-content/uploads/2022/04/sdh_lausanne_palace_overview_06.jpg
END:VEVENT
END:VCALENDAR